BEGIN:VCALENDAR
VERSION:2.0
PRODID:-//wp-events-plugin.com//7.2.3.1//EN
TZID:America/New_York
X-WR-TIMEZONE:America/New_York
BEGIN:VEVENT
UID:7060@congregationemanuel.org
DTSTART;TZID=America/New_York:20260326T120000
DTEND;TZID=America/New_York:20260326T130000
DTSTAMP:20260325T134658Z
URL:https://www.congregationemanuel.org/events/a-community-read-series-wit
 h-rabbi-goldsmith-3/
SUMMARY:Community Read: Here All Along by Sara Hurwitz
DESCRIPTION:They say that Torah\, most broadly understood\, includes not on
 ly the ancient text in the scrolls in the ark\, but every piece of text th
 at struggles with ultimate meaning. We enter this meaningful conversation 
 with a discussion of Sara Hurwitz’s powerful book: Here All Along. It is
  a warm\, accessible\, and engaging introduction to Jewish spirituality\, 
 ethics\, and tradition from the perspective of someone who had drifted awa
 y from Judaism only to (re)discover its wisdom as an adult. RSVP required.
  You can also join via Zoom.\n\n&nbsp\;
ATTACH;FMTTYPE=image/jpeg:https://www.congregationemanuel.org/wp-content/u
 ploads/2025/07/here-all-along.png
CATEGORIES:Featured Events
END:VEVENT
BEGIN:VTIMEZONE
TZID:America/New_York
X-LIC-LOCATION:America/New_York
BEGIN:DAYLIGHT
DTSTART:20260308T030000
TZOFFSETFROM:-0500
TZOFFSETTO:-0400
TZNAME:EDT
END:DAYLIGHT
END:VTIMEZONE
END:VCALENDAR