BEGIN:VCALENDAR
VERSION:2.0
PRODID:-//wp-events-plugin.com//7.2.3.1//EN
TZID:America/New_York
X-WR-TIMEZONE:America/New_York
BEGIN:VEVENT
UID:7058@congregationemanuel.org
DTSTART;TZID=America/New_York:20251030T120000
DTEND;TZID=America/New_York:20251030T130000
DTSTAMP:20251029T153801Z
URL:https://www.congregationemanuel.org/events/a-community-read-series-wit
 h-rabbi-goldsmith/
SUMMARY:A Community Read Series with Rabbi Goldsmith - How to Fight Anti-Se
 mitism by Bari Weiss
DESCRIPTION:Discussion and debate lie at the heart of the Jewish intellectu
 al and religious project. Those debates are not open-ended\, they traditio
 nally rely on a text: analyzing a text\, dissecting a text\, commentary on
  a text - we love all things text. And so\, to ground some of the most sa
 lient discussions and debates of this moment\, this year we will engage in
  discussions on books that examine antisemitism\, Israel\, and Jewish prac
 tice. You may join whether you have read the whole book cover-to-cover\, l
 istened to an audio version\, or just read the dust jacket! RSVP here if y
 ou are joining the discussion in-person or via Zoom. Purchase How to Fight
  Anti-Semitism here.
ATTACH;FMTTYPE=image/jpeg:https://www.congregationemanuel.org/wp-content/u
 ploads/2025/08/bari-weiss-800-x-600.jpg
CATEGORIES:Featured Events
END:VEVENT
BEGIN:VTIMEZONE
TZID:America/New_York
X-LIC-LOCATION:America/New_York
BEGIN:DAYLIGHT
DTSTART:20250309T030000
TZOFFSETFROM:-0500
TZOFFSETTO:-0400
TZNAME:EDT
END:DAYLIGHT
END:VTIMEZONE
END:VCALENDAR