BEGIN:VCALENDAR
VERSION:2.0
PRODID:-//wp-events-plugin.com//7.2.3.1//EN
TZID:America/New_York
X-WR-TIMEZONE:America/New_York
BEGIN:VEVENT
UID:7068@congregationemanuel.org
DTSTART;TZID=America/New_York:20251208T100000
DTEND;TZID=America/New_York:20251208T140000
DTSTAMP:20251203T160435Z
URL:https://www.congregationemanuel.org/events/afya-medical-supply-sort/
SUMMARY:Afya Volunteering Morning: Sorting Medical Supplies For Under-Resou
 rced Health Systems
DESCRIPTION:Join us for a meaningful morning of service at the Afya Founda
 tion in Yonkers. Together\, we’ll sort and pack medical supplies to sup
 port Afya’s global recovery efforts. Afya rescues and upcycles surpl
 us medical supplies and delivers them to communities around the world that
  desperately need medical care. They also welcome donations of these most 
 needed items (all new): Band-Aids\, gauze bandages\, antibiotic ointment\,
  first aid tape\, hand sanitizer\, and children's vitamins. Space is limit
 ed. Registration required here. Afya is located at 140 Saw Mill River Road
  in Yonkers.
END:VEVENT
BEGIN:VTIMEZONE
TZID:America/New_York
X-LIC-LOCATION:America/New_York
BEGIN:STANDARD
DTSTART:20251102T010000
TZOFFSETFROM:-0400
TZOFFSETTO:-0500
TZNAME:EST
END:STANDARD
END:VTIMEZONE
END:VCALENDAR