BEGIN:VCALENDAR
VERSION:2.0
PRODID:-//wp-events-plugin.com//7.2.3.1//EN
TZID:America/New_York
X-WR-TIMEZONE:America/New_York
BEGIN:VEVENT
UID:7050@congregationemanuel.org
DTSTART;TZID=America/New_York:20260205T110000
DTEND;TZID=America/New_York:20260205T130000
DTSTAMP:20260205T142108Z
URL:https://www.congregationemanuel.org/events/bagel-cooking-class-at-nyc-
 bagels/
SUMMARY:Artisan Bagel Baking Class in NYC
DESCRIPTION:Learn to make authentic New York–style bagels from scratch\, 
 from dough mixing to the classic rope-and-loop shape\, using techniques (a
 nd equipment) you can actually pull off at home. Enjoy them fresh with cla
 ssic schmears and smoked fish\, then take a half-dozen home. Space is limi
 ted! Cost: $75/person. RSVP required.
END:VEVENT
BEGIN:VTIMEZONE
TZID:America/New_York
X-LIC-LOCATION:America/New_York
BEGIN:STANDARD
DTSTART:20251102T010000
TZOFFSETFROM:-0400
TZOFFSETTO:-0500
TZNAME:EST
END:STANDARD
END:VTIMEZONE
END:VCALENDAR