BEGIN:VCALENDAR
VERSION:2.0
PRODID:-//wp-events-plugin.com//7.2.3.1//EN
TZID:America/New_York
X-WR-TIMEZONE:America/New_York
BEGIN:VEVENT
UID:6552@congregationemanuel.org
DTSTART;TZID=America/New_York:20250906T090000
DTEND;TZID=America/New_York:20250906T100000
DTSTAMP:20250827T140207Z
URL:https://www.congregationemanuel.org/events/beit-midrash-73/
SUMMARY:Beit Midrash
DESCRIPTION:Each week\, the Torah connects with Jewish life today. This yea
 r in Beit Midrash\, we will explore how the weekly portion links to a fami
 liar Jewish custom\, holiday observance\, or lifecycle ritual. From Kiddus
 h and Shabbat candles to the wedding veil and Passover seder\, each sessio
 n will reveal the ancient roots of practices still vibrant today. We’ll 
 draw from a variety of texts – biblical\, rabbinic\, historical\, and co
 ntemporary – to uncover meaning and relevance for modern Jewish living. 
 Come every session or drop in – all are welcome! Contact Rabbi Goldsmith
  for more information.
END:VEVENT
BEGIN:VTIMEZONE
TZID:America/New_York
X-LIC-LOCATION:America/New_York
BEGIN:DAYLIGHT
DTSTART:20250309T030000
TZOFFSETFROM:-0500
TZOFFSETTO:-0400
TZNAME:EDT
END:DAYLIGHT
END:VTIMEZONE
END:VCALENDAR