BEGIN:VCALENDAR
VERSION:2.0
PRODID:-//wp-events-plugin.com//7.2.3.1//EN
TZID:America/New_York
X-WR-TIMEZONE:America/New_York
BEGIN:VEVENT
UID:6803@congregationemanuel.org
DTSTART;TZID=America/New_York:20260125T103000
DTEND;TZID=America/New_York:20260125T113000
DTSTAMP:20260121T152419Z
URL:https://www.congregationemanuel.org/events/beit-midrash-80/
SUMMARY:Beit Midrash
DESCRIPTION:Each week\, the Torah connects with Jewish life today. This yea
 r in Beit Midrash\, we will explore how the weekly portion links to a fa
 miliar Jewish custom\, holiday observance\, or lifecycle ritual. From Kidd
 ush and Shabbat candles to the wedding veil and Passover seder\, each sess
 ion will reveal the ancient roots of practices still vibrant today. We’l
 l draw from a variety of texts – biblical\, rabbinic\, historical\, and 
 contemporary – to uncover meaning and relevance for modern Jewish living
 . Come every session or drop in – all are welcome! Join via Zoom. Conta
 ct Rabbi Goldsmith for more information.
ATTACH;FMTTYPE=image/jpeg:https://www.congregationemanuel.org/wp-content/u
 ploads/2020/10/kiddushclub3web.jpg
CATEGORIES:Featured Events
END:VEVENT
BEGIN:VTIMEZONE
TZID:America/New_York
X-LIC-LOCATION:America/New_York
BEGIN:STANDARD
DTSTART:20251102T010000
TZOFFSETFROM:-0400
TZOFFSETTO:-0500
TZNAME:EST
END:STANDARD
END:VTIMEZONE
END:VCALENDAR