BEGIN:VCALENDAR
VERSION:2.0
PRODID:-//wp-events-plugin.com//7.2.3.1//EN
TZID:America/New_York
X-WR-TIMEZONE:America/New_York
BEGIN:VEVENT
UID:7086@congregationemanuel.org
DTSTART;TZID=America/New_York:20260319T110000
DTEND;TZID=America/New_York:20260319T120000
DTSTAMP:20260318T193126Z
URL:https://www.congregationemanuel.org/events/book-club-on-zoom-the-corre
 spondent-by-virginia-evans/
SUMMARY:Book Club on Zoom: The Correspondent by Virginia Evans
DESCRIPTION:The group will discuss The Correspondent by Virginia Evans. Joi
 n via Zoom. Guests are welcome! 
END:VEVENT
BEGIN:VTIMEZONE
TZID:America/New_York
X-LIC-LOCATION:America/New_York
BEGIN:DAYLIGHT
DTSTART:20260308T030000
TZOFFSETFROM:-0500
TZOFFSETTO:-0400
TZNAME:EDT
END:DAYLIGHT
END:VTIMEZONE
END:VCALENDAR