BEGIN:VCALENDAR
VERSION:2.0
PRODID:-//wp-events-plugin.com//7.2.3.1//EN
TZID:America/New_York
X-WR-TIMEZONE:America/New_York
BEGIN:VEVENT
UID:6702@congregationemanuel.org
DTSTART;TZID=America/New_York:20251121T190000
DTEND;TZID=America/New_York:20251121T203000
DTSTAMP:20251119T172129Z
URL:https://www.congregationemanuel.org/events/cantor-earl-rogers-tribute-
 sabbath-3/
SUMMARY:Annual Cantor Earl Rogers Tribute Shabbat - After Anatevka: In Conc
 ert
DESCRIPTION:Experience a captivating performance that brings to life dramat
 ic excerpts and live music from a sweeping historical novel that imagines 
 what happens to the characters in Fiddler on the Roof after the curtain 
 falls. Broadway star and author of After Anatevka\, Alexandra Silber\, 
 blends powerful storytelling and beautiful melodies in a magical event for
  all lovers of musical theater. The evening begins with a brief service. 
 Live stream here
ATTACH;FMTTYPE=image/jpeg:https://www.congregationemanuel.org/wp-content/u
 ploads/2025/07/800-x-600-HHD-2.png
CATEGORIES:Featured Events
END:VEVENT
BEGIN:VTIMEZONE
TZID:America/New_York
X-LIC-LOCATION:America/New_York
BEGIN:STANDARD
DTSTART:20251102T010000
TZOFFSETFROM:-0400
TZOFFSETTO:-0500
TZNAME:EST
END:STANDARD
END:VTIMEZONE
END:VCALENDAR