BEGIN:VCALENDAR
VERSION:2.0
PRODID:-//wp-events-plugin.com//7.2.3.1//EN
TZID:America/New_York
X-WR-TIMEZONE:America/New_York
BEGIN:VEVENT
UID:6731@congregationemanuel.org
DTSTART;TZID=America/New_York:20251212T184500
DTEND;TZID=America/New_York:20251212T200000
DTSTAMP:20251210T151441Z
URL:https://www.congregationemanuel.org/events/chanukah-shabbat-service-2/
SUMMARY:Chanukah & B.Y.O.M. Shabbat Service with Musical Guest Rabbi Joe Bl
 ack
DESCRIPTION:5:30pm Tot Shabbat\, 6:00pm Shabbat Dinner\, 6:45pm Service\n
 \nWe start the evening with Tot Shabbat for the little ones\, followed b
 y a special congregation-wide Chanukah dinner\, then we head to the sanc
 tuary for our annual B.Y.O.M. (Bring Your Own Menorah) Shabbat celebratio
 n of Chanukah with award-winning singer and songwriter Rabbi Joe Black! 
 Dinner cost: $15/child\, $20/adult\, $60 family max. RSVP for Tot Shabb
 at. RSVP for dinner. Live stream the service here.
ATTACH;FMTTYPE=image/jpeg:https://www.congregationemanuel.org/wp-content/u
 ploads/2022/12/chanukah-scaled.jpg
CATEGORIES:Featured Events
END:VEVENT
BEGIN:VTIMEZONE
TZID:America/New_York
X-LIC-LOCATION:America/New_York
BEGIN:STANDARD
DTSTART:20251102T010000
TZOFFSETFROM:-0400
TZOFFSETTO:-0500
TZNAME:EST
END:STANDARD
END:VTIMEZONE
END:VCALENDAR