BEGIN:VCALENDAR
VERSION:2.0
PRODID:-//wp-events-plugin.com//7.2.3.1//EN
TZID:America/New_York
X-WR-TIMEZONE:America/New_York
BEGIN:VEVENT
UID:4968@congregationemanuel.org
DTSTART;TZID=America/New_York:20221216T190000
DTEND;TZID=America/New_York:20221216T200000
DTSTAMP:20221214T215327Z
URL:https://www.congregationemanuel.org/events/chanukah-shabbat-service/
SUMMARY:Chanukah Shabbat Celebration (in-person & livestream)
DESCRIPTION:Start the evening with dinner\, latkes\, and friends! BYOM (Bri
 ng Your Own Menorah) for our annual Shabbat celebration of Chanukah. After
  we welcome Shabbat\, everyone will be invited to light their menorahs on 
 the bimah\, and then we'll sing Chanukah songs as the candles illuminate o
 ur sanctuary. $15/child\, $20/adult\, $60 family max. RSVP for dinner he
 re.\n\nConnect at tinyurl.com/cewconnect
ATTACH;FMTTYPE=image/jpeg:https://www.congregationemanuel.org/wp-content/u
 ploads/2021/07/2020-Chanukah-Shabbat-1-1.jpg
CATEGORIES:Featured Events
END:VEVENT
BEGIN:VTIMEZONE
TZID:America/New_York
X-LIC-LOCATION:America/New_York
BEGIN:STANDARD
DTSTART:20221106T010000
TZOFFSETFROM:-0400
TZOFFSETTO:-0500
TZNAME:EST
END:STANDARD
END:VTIMEZONE
END:VCALENDAR