BEGIN:VCALENDAR
VERSION:2.0
PRODID:-//wp-events-plugin.com//7.2.3.1//EN
TZID:America/New_York
X-WR-TIMEZONE:America/New_York
BEGIN:VEVENT
UID:6401@congregationemanuel.org
DTSTART;TZID=America/New_York:20250423T191500
DTEND;TZID=America/New_York:20250423T210000
DTSTAMP:20250423T132728Z
URL:https://www.congregationemanuel.org/events/community-yom-hashoah-servi
 ce-4/
SUMMARY:Community Yom HaShoah Service at Emanu-El
DESCRIPTION:Together as one community with KTI\, Jewish Community Center of
  Harrison\, and Community Synagogue of Rye\, we gather at Emanu-El for a p
 rogram of readings\, music and prayer in remembrance of the six million Je
 wish lives lost during the Holocaust. This service is open to the commun
 ity\, friends and family are welcome. RSVP here. Livestream here.
ATTACH;FMTTYPE=image/jpeg:https://www.congregationemanuel.org/wp-content/u
 ploads/2024/06/YOM-HASHOAH-CANDLE-2.png
CATEGORIES:Featured Events,General
END:VEVENT
BEGIN:VTIMEZONE
TZID:America/New_York
X-LIC-LOCATION:America/New_York
BEGIN:DAYLIGHT
DTSTART:20250309T030000
TZOFFSETFROM:-0500
TZOFFSETTO:-0400
TZNAME:EDT
END:DAYLIGHT
END:VTIMEZONE
END:VCALENDAR