BEGIN:VCALENDAR
VERSION:2.0
PRODID:-//wp-events-plugin.com//7.2.3.1//EN
TZID:America/New_York
X-WR-TIMEZONE:America/New_York
BEGIN:VEVENT
UID:6688@congregationemanuel.org
DTSTART;TZID=America/New_York:20251114T184500
DTEND;TZID=America/New_York:20251114T194500
DTSTAMP:20251112T154430Z
URL:https://www.congregationemanuel.org/events/consecration/
SUMMARY:Consecration Shabbat: Honoring New Religious School Students
DESCRIPTION:6:00pm Dinner\, 6:45pm Service\n\nJoin us for a delicious Shabb
 at dinner before we come together for our annual Consecration Shabbat se
 rvice when we will also welcome all new Religious School students up to th
 e bimah for a special blessing! Dinner: $15/child\, $20/adult or $60/famil
 y max. RSVP here. Live stream the service here.
END:VEVENT
BEGIN:VTIMEZONE
TZID:America/New_York
X-LIC-LOCATION:America/New_York
BEGIN:STANDARD
DTSTART:20251102T010000
TZOFFSETFROM:-0400
TZOFFSETTO:-0500
TZNAME:EST
END:STANDARD
END:VTIMEZONE
END:VCALENDAR