BEGIN:VCALENDAR
VERSION:2.0
PRODID:-//wp-events-plugin.com//7.2.3.1//EN
TZID:America/New_York
X-WR-TIMEZONE:America/New_York
BEGIN:VEVENT
UID:6574@congregationemanuel.org
DTSTART;TZID=America/New_York:20250918T190000
DTEND;TZID=America/New_York:20250918T210000
DTSTAMP:20250917T153718Z
URL:https://www.congregationemanuel.org/events/cooking-with-cara-tannenbau
 m/
SUMMARY:Rosh Hashanah Cooking Class with Master Chef Cara Tannenbaum
DESCRIPTION:Join us for a festive and flavorful evening to welcome the New 
 Year. Chef Cara will guide you through a hands-on cooking session featurin
 g three symbolic starters to sweeten your New Year: vegetarian “chopped 
 liver\,” Muhammara (a roasted pepper dip with pomegranate)\, and honeyed
  ricotta with roasted butternut squash. Cost: $36/person. Space is limited
 . RSVP here.
ATTACH;FMTTYPE=image/jpeg:https://www.congregationemanuel.org/wp-content/u
 ploads/2024/06/Cooking-Class-with-Cara.png
CATEGORIES:Featured Events
END:VEVENT
BEGIN:VTIMEZONE
TZID:America/New_York
X-LIC-LOCATION:America/New_York
BEGIN:DAYLIGHT
DTSTART:20250309T030000
TZOFFSETFROM:-0500
TZOFFSETTO:-0400
TZNAME:EDT
END:DAYLIGHT
END:VTIMEZONE
END:VCALENDAR