BEGIN:VCALENDAR
VERSION:2.0
PRODID:-//wp-events-plugin.com//7.2.3.1//EN
TZID:America/New_York
X-WR-TIMEZONE:America/New_York
BEGIN:VEVENT
UID:6851@congregationemanuel.org
DTSTART;TZID=America/New_York:20260227T181500
DTEND;TZID=America/New_York:20260227T193000
DTSTAMP:20260225T150632Z
URL:https://www.congregationemanuel.org/events/current-former-board-member
 -dinner-2/
SUMMARY:Current & Former Board Member Dinner
DESCRIPTION:Current and former board members come together to reconnect\, g
 et updates on board business\, and celebrate the congregation. Followed by
  our festive ABBA Purim Shabbat. RSVP by Thursday\, February 26.
END:VEVENT
BEGIN:VTIMEZONE
TZID:America/New_York
X-LIC-LOCATION:America/New_York
BEGIN:STANDARD
DTSTART:20251102T010000
TZOFFSETFROM:-0400
TZOFFSETTO:-0500
TZNAME:EST
END:STANDARD
END:VTIMEZONE
END:VCALENDAR