BEGIN:VCALENDAR
VERSION:2.0
PRODID:-//wp-events-plugin.com//7.2.3.1//EN
TZID:America/New_York
X-WR-TIMEZONE:America/New_York
BEGIN:VEVENT
UID:6729@congregationemanuel.org
DTSTART;TZID=America/New_York:20260129T190000
DTEND;TZID=America/New_York:20260129T210000
DTSTAMP:20260128T173121Z
URL:https://www.congregationemanuel.org/events/film-2/
SUMMARY:Film: Vishniac
DESCRIPTION:A powerful documentary about Roman Vishniac\, whose photographs
  immortalized pre-war Jewish communities from Berlin to the Eastern Europe
 an shtetls - many of which would soon vanish. Through his lens\, we glimps
 e a world on the brink\, and a legacy that preserves Jewish life and cultu
 re through image and memory. RSVP required.
ATTACH;FMTTYPE=image/jpeg:https://www.congregationemanuel.org/wp-content/u
 ploads/2025/07/VISHNIAC_JLive960_x_600_px.png
CATEGORIES:Featured Events
END:VEVENT
BEGIN:VTIMEZONE
TZID:America/New_York
X-LIC-LOCATION:America/New_York
BEGIN:STANDARD
DTSTART:20251102T010000
TZOFFSETFROM:-0400
TZOFFSETTO:-0500
TZNAME:EST
END:STANDARD
END:VTIMEZONE
END:VCALENDAR