BEGIN:VCALENDAR
VERSION:2.0
PRODID:-//wp-events-plugin.com//7.2.3.1//EN
TZID:America/New_York
X-WR-TIMEZONE:America/New_York
BEGIN:VEVENT
UID:6996@congregationemanuel.org
DTSTART;TZID=America/New_York:20260514T190000
DTEND;TZID=America/New_York:20260514T210000
DTSTAMP:20260424T172825Z
URL:https://www.congregationemanuel.org/events/film-5/
SUMMARY:Film: The Year My Parents Went On Vacation
DESCRIPTION:Set against Brazil’s military dictatorship and the nation’s
  fervor for the 1970 World Cup\, this heartfelt coming-of-age drama follow
 s 12-year-old Mauro\, whose parents vanish under political threat. Left in
  the care of a vibrant Jewish community in São Paulo’s Bom Retiro distr
 ict\, Mauro navigates identity\, belonging\, and resilience amid upheaval 
 and hope. Blending themes of political exile\, cultural intersection\, and
  youthful longing\, the film offers a poignant exploration of Jewish life 
 in Latin America during turbulent times. RSVP via Emanumail.
ATTACH;FMTTYPE=image/jpeg:https://www.congregationemanuel.org/wp-content/u
 ploads/2025/07/800-x-600.png
CATEGORIES:Featured Events
END:VEVENT
BEGIN:VTIMEZONE
TZID:America/New_York
X-LIC-LOCATION:America/New_York
BEGIN:DAYLIGHT
DTSTART:20260308T030000
TZOFFSETFROM:-0500
TZOFFSETTO:-0400
TZNAME:EDT
END:DAYLIGHT
END:VTIMEZONE
END:VCALENDAR