BEGIN:VCALENDAR
VERSION:2.0
PRODID:-//wp-events-plugin.com//7.2.3.1//EN
TZID:America/New_York
X-WR-TIMEZONE:America/New_York
BEGIN:VEVENT
UID:6821@congregationemanuel.org
DTSTART;TZID=America/New_York:20260205T190000
DTEND;TZID=America/New_York:20260205T210000
DTSTAMP:20260204T153440Z
URL:https://www.congregationemanuel.org/events/film-front-of-the-class/
SUMMARY:Film: Front of the Class
DESCRIPTION:A deeply human story of resilience and identity\, this film fol
 lows Brad Cohen’s journey growing up Jewish with Tourette syndrome in a 
 world that often misunderstood him. From a loving Jewish home to becoming 
 a beloved teacher\, Brad’s path reflects netzach\, limud\, and kehilla -
  a modern vision of tikkun olam. RSVP required.
ATTACH;FMTTYPE=image/jpeg:https://www.congregationemanuel.org/wp-content/u
 ploads/2025/07/front-of-the-class.png
CATEGORIES:Featured Events
END:VEVENT
BEGIN:VTIMEZONE
TZID:America/New_York
X-LIC-LOCATION:America/New_York
BEGIN:STANDARD
DTSTART:20251102T010000
TZOFFSETFROM:-0400
TZOFFSETTO:-0500
TZNAME:EST
END:STANDARD
END:VTIMEZONE
END:VCALENDAR