BEGIN:VCALENDAR
VERSION:2.0
PRODID:-//wp-events-plugin.com//7.2.3.1//EN
TZID:America/New_York
X-WR-TIMEZONE:America/New_York
BEGIN:VEVENT
UID:6642@congregationemanuel.org
DTSTART;TZID=America/New_York:20251016T190000
DTEND;TZID=America/New_York:20251016T210000
DTSTAMP:20251008T135601Z
URL:https://www.congregationemanuel.org/events/film/
SUMMARY:Film: Our (Almost Completely True) Love Story
DESCRIPTION:A warm and witty film about aging\, love\, and unexpected secon
 d chances\, blending humor\, poignancy\, and Jewish spirit. RSVP here.
END:VEVENT
BEGIN:VTIMEZONE
TZID:America/New_York
X-LIC-LOCATION:America/New_York
BEGIN:DAYLIGHT
DTSTART:20250309T030000
TZOFFSETFROM:-0500
TZOFFSETTO:-0400
TZNAME:EDT
END:DAYLIGHT
END:VTIMEZONE
END:VCALENDAR