BEGIN:VCALENDAR
VERSION:2.0
PRODID:-//wp-events-plugin.com//7.2.3.1//EN
TZID:America/New_York
X-WR-TIMEZONE:America/New_York
BEGIN:VEVENT
UID:6546@congregationemanuel.org
DTSTART;TZID=America/New_York:20250902T134500
DTEND;TZID=America/New_York:20250902T154500
DTSTAMP:20250827T135848Z
URL:https://www.congregationemanuel.org/events/games-11/
SUMMARY:Canasta
DESCRIPTION:Come play on Tuesday afternoons. Friends and family are welcome
 ! In order to secure a spot at a table\, participants must arrive on time 
 to ensure a smooth start to the games. RSVP here.\n\n&nbsp\;\n\nFor those 
 who want to learn how to play Canasta\, there will be a 4-session class of
 fered by Canasta expert Jill Baker on October 21\, October 28\, November 4
 \, and November 18 at 1:45pm. Cost: $118/person for the series. Space is l
 imited. RSVP here.
END:VEVENT
BEGIN:VTIMEZONE
TZID:America/New_York
X-LIC-LOCATION:America/New_York
BEGIN:DAYLIGHT
DTSTART:20250309T030000
TZOFFSETFROM:-0500
TZOFFSETTO:-0400
TZNAME:EDT
END:DAYLIGHT
END:VTIMEZONE
END:VCALENDAR