BEGIN:VCALENDAR
VERSION:2.0
PRODID:-//wp-events-plugin.com//7.2.3.1//EN
TZID:America/New_York
X-WR-TIMEZONE:America/New_York
BEGIN:VEVENT
UID:6861@congregationemanuel.org
DTSTART;TZID=America/New_York:20260303T133000
DTEND;TZID=America/New_York:20260303T154500
DTSTAMP:20260225T150959Z
URL:https://www.congregationemanuel.org/events/games-43/
SUMMARY:Canasta
DESCRIPTION:Come play on Tuesday afternoons. Friends and family are welcome
 ! In order to secure a spot at a table and to ensure a smooth start to th
 e games\, all participants must arrive on time. RSVP required.
END:VEVENT
BEGIN:VTIMEZONE
TZID:America/New_York
X-LIC-LOCATION:America/New_York
BEGIN:STANDARD
DTSTART:20251102T010000
TZOFFSETFROM:-0400
TZOFFSETTO:-0500
TZNAME:EST
END:STANDARD
END:VTIMEZONE
END:VCALENDAR