BEGIN:VCALENDAR
VERSION:2.0
PRODID:-//wp-events-plugin.com//7.2.3.1//EN
TZID:America/New_York
X-WR-TIMEZONE:America/New_York
BEGIN:VEVENT
UID:6898@congregationemanuel.org
DTSTART;TZID=America/New_York:20260324T133000
DTEND;TZID=America/New_York:20260324T154500
DTSTAMP:20260318T152353Z
URL:https://www.congregationemanuel.org/events/games-46/
SUMMARY:Canasta
DESCRIPTION:Come play on Tuesday afternoons. Friends and family are welcome
 ! In order to secure a spot at a table and to ensure a smooth start to th
 e games\, all participants must arrive on time. RSVP required.
END:VEVENT
BEGIN:VTIMEZONE
TZID:America/New_York
X-LIC-LOCATION:America/New_York
BEGIN:DAYLIGHT
DTSTART:20260308T030000
TZOFFSETFROM:-0500
TZOFFSETTO:-0400
TZNAME:EDT
END:DAYLIGHT
END:VTIMEZONE
END:VCALENDAR