BEGIN:VCALENDAR
VERSION:2.0
PRODID:-//wp-events-plugin.com//7.2.3.1//EN
TZID:America/New_York
X-WR-TIMEZONE:America/New_York
BEGIN:VEVENT
UID:4732@congregationemanuel.org
DTSTART;TZID=America/New_York:20220731T110000
DTEND;TZID=America/New_York:20220731T121500
DTSTAMP:20220727T154140Z
URL:https://www.congregationemanuel.org/events/give-back-with-a-backpack-p
 acking-event-at-emanu-el-in-person-2/
SUMMARY:Give Back with a Backpack: Packing Event at Emanu-El (in-person)
DESCRIPTION:This year Emanu-El is partnering with UJA on a special summerti
 me project: filling new backpacks with school supplies for children in und
 erserved communities. The backpack drive and packing event will support ou
 r Annual Back to School Drive benefiting Westchester Jewish Community Serv
 ices (WJCS). For more information\, contact Chani Kovacs Zweiter at zweit
 erc@ujafedny.org. Register here.\n\nIf you cannot attend but would like to
  take part in this meaningful project: we are collecting $25 &amp\; $50 Am
 azon gift cards to put in backpacks. Please feel free to write a note with
  wishes for a good school year! Gift cards and notes can be dropped off at
  the temple during normal business hours
ATTACH;FMTTYPE=image/jpeg:https://www.congregationemanuel.org/wp-content/u
 ploads/2022/07/backpack.jpg
END:VEVENT
BEGIN:VTIMEZONE
TZID:America/New_York
X-LIC-LOCATION:America/New_York
BEGIN:DAYLIGHT
DTSTART:20220313T030000
TZOFFSETFROM:-0500
TZOFFSETTO:-0400
TZNAME:EDT
END:DAYLIGHT
END:VTIMEZONE
END:VCALENDAR