BEGIN:VCALENDAR
VERSION:2.0
PRODID:-//wp-events-plugin.com//7.2.3.1//EN
TZID:America/New_York
X-WR-TIMEZONE:America/New_York
BEGIN:VEVENT
UID:7053@congregationemanuel.org
DTSTART;TZID=America/New_York:20251021T153000
DTEND;TZID=America/New_York:20251021T190000
DTSTAMP:20250818T203958Z
URL:https://www.congregationemanuel.org/events/hebrew-tutoring-on-zoom-124
 /
SUMMARY:Hebrew Tutoring on Zoom
DESCRIPTION:
END:VEVENT
BEGIN:VTIMEZONE
TZID:America/New_York
X-LIC-LOCATION:America/New_York
BEGIN:DAYLIGHT
DTSTART:20250309T030000
TZOFFSETFROM:-0500
TZOFFSETTO:-0400
TZNAME:EDT
END:DAYLIGHT
END:VTIMEZONE
END:VCALENDAR