BEGIN:VCALENDAR
VERSION:2.0
PRODID:-//wp-events-plugin.com//7.2.3.1//EN
TZID:America/New_York
X-WR-TIMEZONE:America/New_York
BEGIN:VEVENT
UID:6778@congregationemanuel.org
DTSTART;TZID=America/New_York:20260108T153000
DTEND;TZID=America/New_York:20260108T190000
DTSTAMP:20250707T152327Z
URL:https://www.congregationemanuel.org/events/hebrew-tutoring-on-zoom-87/
SUMMARY:Hebrew Tutoring on Zoom
DESCRIPTION:
END:VEVENT
BEGIN:VTIMEZONE
TZID:America/New_York
X-LIC-LOCATION:America/New_York
BEGIN:STANDARD
DTSTART:20251102T010000
TZOFFSETFROM:-0400
TZOFFSETTO:-0500
TZNAME:EST
END:STANDARD
END:VTIMEZONE
END:VCALENDAR