BEGIN:VCALENDAR
VERSION:2.0
PRODID:-//wp-events-plugin.com//7.2.3.1//EN
TZID:America/New_York
X-WR-TIMEZONE:America/New_York
BEGIN:VEVENT
UID:6780@congregationemanuel.org
DTSTART;TZID=America/New_York:20260109T193000
DTEND;TZID=America/New_York:20260109T210000
DTSTAMP:20260107T145024Z
URL:https://www.congregationemanuel.org/events/hineini-social-justice-shab
 bat-service/
SUMMARY:Hineini & Social Justice Shabbat Service
DESCRIPTION:Join us this Friday for Hineini &amp\; Social Justice Shabbat\
 , a meaningful service honoring the legacy of Rev. Dr. Martin Luther King
 \, Jr. and reaffirming our commitment to justice in our own time. We are 
 honored to welcome Daniel Bonnet\, Program Director at the Carver Center\
 , who will share reflections on the realities facing members of the local 
 immigrant community today. Through music\, readings\, and Daniel’s words
 \, we will be called to listen\, to show up\, and to act. Live stream t
 he service here.
ATTACH;FMTTYPE=image/jpeg:https://www.congregationemanuel.org/wp-content/u
 ploads/2024/06/social-justice-shabbat-2.jpg
CATEGORIES:Featured Events
END:VEVENT
BEGIN:VTIMEZONE
TZID:America/New_York
X-LIC-LOCATION:America/New_York
BEGIN:STANDARD
DTSTART:20251102T010000
TZOFFSETFROM:-0400
TZOFFSETTO:-0500
TZNAME:EST
END:STANDARD
END:VTIMEZONE
END:VCALENDAR