BEGIN:VCALENDAR
VERSION:2.0
PRODID:-//wp-events-plugin.com//7.2.3.1//EN
TZID:America/New_York
X-WR-TIMEZONE:America/New_York
BEGIN:VEVENT
UID:7067@congregationemanuel.org
DTSTART;TZID=America/New_York:20251109T093000
DTEND;TZID=America/New_York:20251109T103000
DTSTAMP:20251105T153024Z
URL:https://www.congregationemanuel.org/events/israel-discussion/
SUMMARY:Israel Discussion with Rabbi Goldsmith
DESCRIPTION:The situation in Israel continues to stir deep emotions and com
 plex questions. Join us as we explore different perspectives and seek a de
 eper understanding of the opportunities and challenges facing Israel today
 . Our goal is to build bridges across difference within our congregation. 
 This is not a place to argue or vilify – it is a place to listen\, to le
 arn\, and to seek meaning together. RSVP here.
END:VEVENT
BEGIN:VTIMEZONE
TZID:America/New_York
X-LIC-LOCATION:America/New_York
BEGIN:STANDARD
DTSTART:20251102T010000
TZOFFSETFROM:-0400
TZOFFSETTO:-0500
TZNAME:EST
END:STANDARD
END:VTIMEZONE
END:VCALENDAR