BEGIN:VCALENDAR
VERSION:2.0
PRODID:-//wp-events-plugin.com//7.2.3.1//EN
TZID:America/New_York
X-WR-TIMEZONE:America/New_York
BEGIN:VEVENT
UID:7048@congregationemanuel.org
DTSTART;TZID=America/New_York:20251019T103000
DTEND;TZID=America/New_York:20251019T114500
DTSTAMP:20251008T135708Z
URL:https://www.congregationemanuel.org/events/joel-chasnoff-inside-israel
 /
SUMMARY:Inside Israel with Joel Chasnoff
DESCRIPTION:Come for an up-close look at what it's really like to live\, wo
 rk\, and raise kids in Israel during these challenging times\, from the pe
 rspective of one who lives there. Joel is a former Lone Soldier\, the auth
 or of Israel 201 (National Jewish Book Award) and is the host of the weekl
 y Inside Israel podcast. RSVP here.
END:VEVENT
BEGIN:VTIMEZONE
TZID:America/New_York
X-LIC-LOCATION:America/New_York
BEGIN:DAYLIGHT
DTSTART:20250309T030000
TZOFFSETFROM:-0500
TZOFFSETTO:-0400
TZNAME:EDT
END:DAYLIGHT
END:VTIMEZONE
END:VCALENDAR