BEGIN:VCALENDAR
VERSION:2.0
PRODID:-//wp-events-plugin.com//7.2.3.1//EN
TZID:America/New_York
X-WR-TIMEZONE:America/New_York
BEGIN:VEVENT
UID:7039@congregationemanuel.org
DTSTART;TZID=America/New_York:20251104T134500
DTEND;TZID=America/New_York:20251104T154500
DTSTAMP:20251008T135857Z
URL:https://www.congregationemanuel.org/events/learn-to-play-canasta-3/
SUMMARY:Learn to Play Canasta!
DESCRIPTION:Tuesdays\, October 21\, October 28\, November 4\, and November 
 18\, 1:45pm\n\nAlways wanted to learn how to play Canasta but didn’t kno
 w where to start? Emanu-El is offering a four-week series taught by master
  player and congregant Jill Baker.\n\nCost: $118/person for the series. Sp
 ace is limited. RSVP here.
END:VEVENT
BEGIN:VTIMEZONE
TZID:America/New_York
X-LIC-LOCATION:America/New_York
BEGIN:STANDARD
DTSTART:20251102T010000
TZOFFSETFROM:-0400
TZOFFSETTO:-0500
TZNAME:EST
END:STANDARD
END:VTIMEZONE
END:VCALENDAR