BEGIN:VCALENDAR
VERSION:2.0
PRODID:-//wp-events-plugin.com//7.2.3.1//EN
TZID:America/New_York
X-WR-TIMEZONE:America/New_York
BEGIN:VEVENT
UID:7057@congregationemanuel.org
DTSTART;TZID=America/New_York:20250905T123000
DTEND;TZID=America/New_York:20250905T140000
DTSTAMP:20250903T151814Z
URL:https://www.congregationemanuel.org/events/lunch-learn-insights-from-i
 srael-with-congressman-george-latimer/
SUMMARY:Lunch & Learn: Insights from Israel with Congressman George Latimer
DESCRIPTION:Fresh from a recent congressional delegation to Israel\, Congre
 ssman George Latimer will share updates from his meetings with Israeli lea
 ders\, Palestinian Authority officials\, and visits to critical sites incl
 uding the Golan Heights\, the Gaza envelope\, the Nova site\, and Kibbutz 
 Be’eri. Join us for an exclusive lunch\, briefing\, and an open Q&amp\;A
  session. This is a unique opportunity to hear firsthand insights from our
  congressman into the challenges and hopes shaping Israel today. Registrat
 ion required for in-person and Zoom attendees.
END:VEVENT
BEGIN:VTIMEZONE
TZID:America/New_York
X-LIC-LOCATION:America/New_York
BEGIN:DAYLIGHT
DTSTART:20250309T030000
TZOFFSETFROM:-0500
TZOFFSETTO:-0400
TZNAME:EDT
END:DAYLIGHT
END:VTIMEZONE
END:VCALENDAR