BEGIN:VCALENDAR
VERSION:2.0
PRODID:-//wp-events-plugin.com//7.2.3.1//EN
TZID:America/New_York
X-WR-TIMEZONE:America/New_York
BEGIN:VEVENT
UID:6569@congregationemanuel.org
DTSTART;TZID=America/New_York:20250926T120000
DTEND;TZID=America/New_York:20250926T130000
DTSTAMP:20250925T133402Z
URL:https://www.congregationemanuel.org/events/lunch-program-audrey-unger-
 reich/
SUMMARY:Positive Vidui: Acknowledging What We've Done Right with Audrey Rei
 ch
DESCRIPTION:Artist Audrey Reich will guide us in a creative exploration of 
 Vidui - not as a confession of wrongs\, but as a celebration of what we’
 ve done right. This unique experience invites us to reflect on the good we
 ’ve brought into the world as we prepare our hearts and souls for the ne
 w year. As part of the program\, we will also visit Audrey’s artwork on 
 display in the gallery\, where her pieces offer a powerful visual and emot
 ional connection to the themes we’ll be discussing. A light lunch will b
 e provided. RSVP here.
ATTACH;FMTTYPE=image/jpeg:https://www.congregationemanuel.org/wp-content/u
 ploads/2025/07/audrey-reich-art-800-x-600.png
CATEGORIES:Featured Events
END:VEVENT
BEGIN:VTIMEZONE
TZID:America/New_York
X-LIC-LOCATION:America/New_York
BEGIN:DAYLIGHT
DTSTART:20250309T030000
TZOFFSETFROM:-0500
TZOFFSETTO:-0400
TZNAME:EDT
END:DAYLIGHT
END:VTIMEZONE
END:VCALENDAR