BEGIN:VCALENDAR
VERSION:2.0
PRODID:-//wp-events-plugin.com//7.2.3.1//EN
TZID:America/New_York
X-WR-TIMEZONE:America/New_York
BEGIN:VEVENT
UID:6947@congregationemanuel.org
DTSTART;TZID=America/New_York:20260418T170000
DTEND;TZID=America/New_York:20260418T180000
DTSTAMP:20250707T183421Z
URL:https://www.congregationemanuel.org/events/maxwell-weinberg-bar-mitzva
 h/
SUMMARY:Maxwell Weinberg Bar Mitzvah
DESCRIPTION:
END:VEVENT
BEGIN:VTIMEZONE
TZID:America/New_York
X-LIC-LOCATION:America/New_York
BEGIN:DAYLIGHT
DTSTART:20260308T030000
TZOFFSETFROM:-0500
TZOFFSETTO:-0400
TZNAME:EDT
END:DAYLIGHT
END:VTIMEZONE
END:VCALENDAR