BEGIN:VCALENDAR
VERSION:2.0
PRODID:-//wp-events-plugin.com//7.2.3.1//EN
TZID:America/New_York
X-WR-TIMEZONE:America/New_York
BEGIN:VEVENT
UID:7081@congregationemanuel.org
DTSTART;TZID=America/New_York:20260218T090000
DTEND;TZID=America/New_York:20260218T170000
DTSTAMP:20260211T150954Z
URL:https://www.congregationemanuel.org/events/midnight-run-clothing-sort-
 at-emanu-el-2/
SUMMARY:Midnight Run Clothing Sort at Emanu-El
DESCRIPTION:Tuesday\, February 17\; Wednesday\, February 18\; and Monday\, 
 February 23\; 9:00am - 5:00pm (flexible hours)\n\nWe’re looking for volu
 nteers of all ages to help sort and label clothing for the Midnight Run in
  March. This is a wonderful opportunity to earn volunteer hours. Come for 
 as little or as long as you’re able - friends and family are welcome! If
  you have any questions\, contact Jane. See Emanumail to sign-up.
END:VEVENT
BEGIN:VTIMEZONE
TZID:America/New_York
X-LIC-LOCATION:America/New_York
BEGIN:STANDARD
DTSTART:20251102T010000
TZOFFSETFROM:-0400
TZOFFSETTO:-0500
TZNAME:EST
END:STANDARD
END:VTIMEZONE
END:VCALENDAR