BEGIN:VCALENDAR
VERSION:2.0
PRODID:-//wp-events-plugin.com//7.2.3.1//EN
TZID:America/New_York
X-WR-TIMEZONE:America/New_York
BEGIN:VEVENT
UID:7055@congregationemanuel.org
DTSTART;TZID=America/New_York:20251109T104500
DTEND;TZID=America/New_York:20251109T114500
DTSTAMP:20251105T153602Z
URL:https://www.congregationemanuel.org/events/new-member-event-at-emanu-e
 l/
SUMMARY:Schmooze & Schmear with the Rabbi for New Congregants
DESCRIPTION:New to the Emanu-El community? New congregants are warmly invit
 ed to a bagel nosh with Rabbi Goldsmith and fellow newcomers to the commun
 ity. RSVP here or just stop in!
END:VEVENT
BEGIN:VTIMEZONE
TZID:America/New_York
X-LIC-LOCATION:America/New_York
BEGIN:STANDARD
DTSTART:20251102T010000
TZOFFSETFROM:-0400
TZOFFSETTO:-0500
TZNAME:EST
END:STANDARD
END:VTIMEZONE
END:VCALENDAR