BEGIN:VCALENDAR
VERSION:2.0
PRODID:-//wp-events-plugin.com//7.2.3.1//EN
TZID:America/New_York
X-WR-TIMEZONE:America/New_York
BEGIN:VEVENT
UID:6567@congregationemanuel.org
DTSTART;TZID=America/New_York:20250914T110000
DTEND;TZID=America/New_York:20250914T123000
DTSTAMP:20250910T144055Z
URL:https://www.congregationemanuel.org/events/next-step-44/
SUMMARY:Next Step
DESCRIPTION:This group of men meet to discuss personal issues that they fac
 e in retirement. The bonds of friendship and a deep sense of trust have al
 lowed this group to continue for many years. Next Step is facilitated by c
 ongregant Paul Spindel (retired executive). For more information\, contact
  Paul at 914-632-1264.
END:VEVENT
BEGIN:VTIMEZONE
TZID:America/New_York
X-LIC-LOCATION:America/New_York
BEGIN:DAYLIGHT
DTSTART:20250309T030000
TZOFFSETFROM:-0500
TZOFFSETTO:-0400
TZNAME:EDT
END:DAYLIGHT
END:VTIMEZONE
END:VCALENDAR