BEGIN:VCALENDAR
VERSION:2.0
PRODID:-//wp-events-plugin.com//7.2.3.1//EN
TZID:America/New_York
X-WR-TIMEZONE:America/New_York
BEGIN:VEVENT
UID:6828@congregationemanuel.org
DTSTART;TZID=America/New_York:20260208T110000
DTEND;TZID=America/New_York:20260208T123000
DTSTAMP:20260204T153544Z
URL:https://www.congregationemanuel.org/events/next-step-49/
SUMMARY:Next Step
DESCRIPTION:This group of men meets to discuss personal issues that they fa
 ce in retirement. The bonds of friendship and a deep sense of trust have a
 llowed this group to continue for many years. Next Step is facilitated by 
 congregant Paul Spindel. For more information\, contact Paul at 914-632-12
 64.
END:VEVENT
BEGIN:VTIMEZONE
TZID:America/New_York
X-LIC-LOCATION:America/New_York
BEGIN:STANDARD
DTSTART:20251102T010000
TZOFFSETFROM:-0400
TZOFFSETTO:-0500
TZNAME:EST
END:STANDARD
END:VTIMEZONE
END:VCALENDAR