BEGIN:VCALENDAR
VERSION:2.0
PRODID:-//wp-events-plugin.com//7.2.3.1//EN
TZID:America/New_York
X-WR-TIMEZONE:America/New_York
BEGIN:VEVENT
UID:6210@congregationemanuel.org
DTSTART;TZID=America/New_York:20241224T140000
DTEND;TZID=America/New_York:20241224T160000
DTSTAMP:20240823T162343Z
URL:https://www.congregationemanuel.org/events/no-mah-jongg-canasta-2/
SUMMARY:No Canasta
DESCRIPTION:
CATEGORIES:General
END:VEVENT
BEGIN:VTIMEZONE
TZID:America/New_York
X-LIC-LOCATION:America/New_York
BEGIN:STANDARD
DTSTART:20241103T010000
TZOFFSETFROM:-0400
TZOFFSETTO:-0500
TZNAME:EST
END:STANDARD
END:VTIMEZONE
END:VCALENDAR