BEGIN:VCALENDAR
VERSION:2.0
PRODID:-//wp-events-plugin.com//7.2.3.1//EN
TZID:America/New_York
X-WR-TIMEZONE:America/New_York
BEGIN:VEVENT
UID:6822@congregationemanuel.org
DTSTART;TZID=America/New_York:20260206T180000
DTEND;TZID=America/New_York:20260206T184500
DTSTAMP:20260204T152951Z
URL:https://www.congregationemanuel.org/events/pajama-shabbat-2/
SUMMARY:Pajama Shabbat
DESCRIPTION:5:15pm Dinner\, 6:00pm Service\n\nA special service focused on 
 our younger members\, bring your kids (or grandkids) in their PJs to enj
 oy a delicious pizza and pasta dinner followed by a child friendly\, music
 -filled service. What better way could there be to end the week and begin 
 our day of rest?! Appropriate for children up through 2nd grade. Cost: $15
 /person. RSVP required for the dinner.
END:VEVENT
BEGIN:VTIMEZONE
TZID:America/New_York
X-LIC-LOCATION:America/New_York
BEGIN:STANDARD
DTSTART:20251102T010000
TZOFFSETFROM:-0400
TZOFFSETTO:-0500
TZNAME:EST
END:STANDARD
END:VTIMEZONE
END:VCALENDAR