BEGIN:VCALENDAR
VERSION:2.0
PRODID:-//wp-events-plugin.com//7.2.3.1//EN
TZID:America/New_York
X-WR-TIMEZONE:America/New_York
BEGIN:VEVENT
UID:6858@congregationemanuel.org
DTSTART;TZID=America/New_York:20260301T093000
DTEND;TZID=America/New_York:20260301T110000
DTSTAMP:20260225T151334Z
URL:https://www.congregationemanuel.org/events/pre-k-k-purim-4/
SUMMARY:Pre-K and Kindergarten Purim Drop-Off Program
DESCRIPTION:Drop your little ones off to learn all about Purim with our Pre
 -K and Kindergarten program. RSVP required.
END:VEVENT
BEGIN:VTIMEZONE
TZID:America/New_York
X-LIC-LOCATION:America/New_York
BEGIN:STANDARD
DTSTART:20251102T010000
TZOFFSETFROM:-0400
TZOFFSETTO:-0500
TZNAME:EST
END:STANDARD
END:VTIMEZONE
END:VCALENDAR