BEGIN:VCALENDAR
VERSION:2.0
PRODID:-//wp-events-plugin.com//7.2.3.1//EN
TZID:America/New_York
X-WR-TIMEZONE:America/New_York
BEGIN:VEVENT
UID:6672@congregationemanuel.org
DTSTART;TZID=America/New_York:20251102T093000
DTEND;TZID=America/New_York:20251102T104500
DTSTAMP:20251029T154436Z
URL:https://www.congregationemanuel.org/events/pre-k-k-shabbat-4/
SUMMARY:Pre-K/K Program About Torah
DESCRIPTION:Drop off your little ones for a morning learning about the Tor
 ah through crafts and stories! RSVP here.
END:VEVENT
BEGIN:VTIMEZONE
TZID:America/New_York
X-LIC-LOCATION:America/New_York
BEGIN:STANDARD
DTSTART:20251102T010000
TZOFFSETFROM:-0400
TZOFFSETTO:-0500
TZNAME:EST
END:STANDARD
END:VTIMEZONE
END:VCALENDAR