BEGIN:VCALENDAR
VERSION:2.0
PRODID:-//wp-events-plugin.com//7.2.3.1//EN
TZID:America/New_York
X-WR-TIMEZONE:America/New_York
BEGIN:VEVENT
UID:6678@congregationemanuel.org
DTSTART;TZID=America/New_York:20251108T190000
DTEND;TZID=America/New_York:20251108T210000
DTSTAMP:20251105T153001Z
URL:https://www.congregationemanuel.org/events/rabbis-got-talent-night-of-
 jewish-learning-at-beth-el-in-new-rochelle/
SUMMARY:Rabbis Got Talent: Night of Jewish Learning at Beth-El in New Roche
 lle
DESCRIPTION:This year’s Night of Learning will highlight the diverse and 
 interesting rabbis from our community with a theme of “Rabbi’s Got Ta
 lent.”  The event will begin with all the rabbis leading a community H
 avdalah\, followed by two sessions of classes taught by over 30 Rabbis. T
 he evening will conclude with a dessert reception and Israeli dancing. Ear
 ly-bird pricing by October 24: $18/person. Cost at the door: $25/person. B
 eth El Synagogue Center is located at 1324 North Avenue\, New Rochelle\, N
 Y 10804. Register here.
END:VEVENT
BEGIN:VTIMEZONE
TZID:America/New_York
X-LIC-LOCATION:America/New_York
BEGIN:STANDARD
DTSTART:20251102T010000
TZOFFSETFROM:-0400
TZOFFSETTO:-0500
TZNAME:EST
END:STANDARD
END:VTIMEZONE
END:VCALENDAR