BEGIN:VCALENDAR
VERSION:2.0
PRODID:-//wp-events-plugin.com//7.2.3.1//EN
TZID:America/New_York
X-WR-TIMEZONE:America/New_York
BEGIN:VEVENT
UID:6830@congregationemanuel.org
DTSTART;TZID=America/New_York:20260209T120000
DTEND;TZID=America/New_York:20260209T140000
DTSTAMP:20260204T190212Z
URL:https://www.congregationemanuel.org/events/reflections-workshop-16/
SUMMARY:Reflections Workshop with Cantor Stone
DESCRIPTION:Daily life experiences and observations\, or perhaps poetry or 
 words of Torah\, provide inspiration for the personal writing we do in thi
 s ongoing workshop. Our words\, when woven into a Shabbat service\, expoun
 d upon the meaning of our prayers and enrich our worship. Through writing 
 and sharing we strengthen connections to one another and our tradition. RS
 VP to Cantor Stone.
ATTACH;FMTTYPE=image/jpeg:https://www.congregationemanuel.org/wp-content/u
 ploads/2020/10/Sacred-Stories.jpg
CATEGORIES:Featured Events
END:VEVENT
BEGIN:VTIMEZONE
TZID:America/New_York
X-LIC-LOCATION:America/New_York
BEGIN:STANDARD
DTSTART:20251102T010000
TZOFFSETFROM:-0400
TZOFFSETTO:-0500
TZNAME:EST
END:STANDARD
END:VTIMEZONE
END:VCALENDAR