BEGIN:VCALENDAR
VERSION:2.0
PRODID:-//wp-events-plugin.com//7.2.3.1//EN
TZID:America/New_York
X-WR-TIMEZONE:America/New_York
BEGIN:VEVENT
UID:6882@congregationemanuel.org
DTSTART;TZID=America/New_York:20260315T093000
DTEND;TZID=America/New_York:20260315T114500
DTSTAMP:20250707T175017Z
URL:https://www.congregationemanuel.org/events/religious-school-114/
SUMMARY:Religious School
DESCRIPTION:
END:VEVENT
BEGIN:VTIMEZONE
TZID:America/New_York
X-LIC-LOCATION:America/New_York
BEGIN:DAYLIGHT
DTSTART:20260308T030000
TZOFFSETFROM:-0500
TZOFFSETTO:-0400
TZNAME:EDT
END:DAYLIGHT
END:VTIMEZONE
END:VCALENDAR