BEGIN:VCALENDAR
VERSION:2.0
PRODID:-//wp-events-plugin.com//7.2.3.1//EN
TZID:America/New_York
X-WR-TIMEZONE:America/New_York
BEGIN:VEVENT
UID:6971@congregationemanuel.org
DTSTART;TZID=America/New_York:20260426T093000
DTEND;TZID=America/New_York:20260426T114500
DTSTAMP:20260414T184322Z
URL:https://www.congregationemanuel.org/events/religious-school-open-house
 -5/
SUMMARY:Religious School Open House
DESCRIPTION:Ready to begin your child’s Jewish journey? Know a family loo
 king for a synagogue home? We’d love to welcome you at the upcoming Open
  House! Prospective students will join their grade-level classes to get a 
 taste of a day at Religious School while parents learn about our program\,
  including our educational philosophy\, curriculum\, B'nei Mitzvah prepara
 tion\, and opportunities for family learning and engagement. See Emanumail
  to RSVP.
END:VEVENT
BEGIN:VTIMEZONE
TZID:America/New_York
X-LIC-LOCATION:America/New_York
BEGIN:DAYLIGHT
DTSTART:20260308T030000
TZOFFSETFROM:-0500
TZOFFSETTO:-0400
TZNAME:EDT
END:DAYLIGHT
END:VTIMEZONE
END:VCALENDAR