BEGIN:VCALENDAR
VERSION:2.0
PRODID:-//wp-events-plugin.com//7.2.3.1//EN
TZID:America/New_York
X-WR-TIMEZONE:America/New_York
BEGIN:VEVENT
UID:7071@congregationemanuel.org
DTSTART;TZID=America/New_York:20260129T190000
DTEND;TZID=America/New_York:20260129T210000
DTSTAMP:20260121T153821Z
URL:https://www.congregationemanuel.org/events/religious-school-parents-ni
 ght-out-at-rye-bar-grill/
SUMMARY:Religious School Parents' Night Out at Rye Bar & Grill
DESCRIPTION:Good food\, good company\, and a chance to mingle with fellow p
 arents and Rabbi Goldsmith! RSVP required.
END:VEVENT
BEGIN:VTIMEZONE
TZID:America/New_York
X-LIC-LOCATION:America/New_York
BEGIN:STANDARD
DTSTART:20251102T010000
TZOFFSETFROM:-0400
TZOFFSETTO:-0500
TZNAME:EST
END:STANDARD
END:VTIMEZONE
END:VCALENDAR