BEGIN:VCALENDAR
VERSION:2.0
PRODID:-//wp-events-plugin.com//7.2.3.1//EN
TZID:America/New_York
X-WR-TIMEZONE:America/New_York
BEGIN:VEVENT
UID:6811@congregationemanuel.org
DTSTART;TZID=America/New_York:20260130T193000
DTEND;TZID=America/New_York:20260130T204500
DTSTAMP:20260128T172946Z
URL:https://www.congregationemanuel.org/events/repro-shabbat/
SUMMARY:Shabbat Celebrating Reproductive Freedom
DESCRIPTION:Join us for a powerful Shabbat service dedicated to exploring r
 eproductive rights as a Jewish value. Together\, we will reflect on our sa
 cred tradition’s emphasis on tzedek (justice) and chesed (care for other
 s). You can also live stream the service.
ATTACH;FMTTYPE=image/jpeg:https://www.congregationemanuel.org/wp-content/u
 ploads/2025/07/repro-shabbat-800-x-600.png
CATEGORIES:Featured Events
END:VEVENT
BEGIN:VTIMEZONE
TZID:America/New_York
X-LIC-LOCATION:America/New_York
BEGIN:STANDARD
DTSTART:20251102T010000
TZOFFSETFROM:-0400
TZOFFSETTO:-0500
TZNAME:EST
END:STANDARD
END:VTIMEZONE
END:VCALENDAR