BEGIN:VCALENDAR
VERSION:2.0
PRODID:-//wp-events-plugin.com//7.2.3.1//EN
TZID:America/New_York
X-WR-TIMEZONE:America/New_York
BEGIN:VEVENT
UID:6592@congregationemanuel.org
DTSTART;TZID=America/New_York:20250924T101500
DTEND;TZID=America/New_York:20250924T230000
DTSTAMP:20250912T162724Z
URL:https://www.congregationemanuel.org/events/rosh-hashanah-nature-walk-5
 /
SUMMARY:Rosh Hashanah Nature Walk
DESCRIPTION:It is in the wilderness where our tradition finds its roots\, a
 nd natural places provide a unique setting to connect to our heritage. The
  paths of the beautiful Edith G. Read Wildlife Sanctuary provide an ideal 
 location for a 45-minute nature walk to consider the world in which we liv
 e as we celebrate creation. This walk is open to all ages and will be a fu
 n\, meaningful way to continue the Rosh Hashanah celebration. Please remem
 ber to wear walking shoes. Following our walk\, we move to the beach for a
  beautiful Tashlich ceremony.
ATTACH;FMTTYPE=image/jpeg:https://www.congregationemanuel.org/wp-content/u
 ploads/2024/06/RH-tashlich-800-x-600.jpg
CATEGORIES:Featured Events
END:VEVENT
BEGIN:VTIMEZONE
TZID:America/New_York
X-LIC-LOCATION:America/New_York
BEGIN:DAYLIGHT
DTSTART:20250309T030000
TZOFFSETFROM:-0500
TZOFFSETTO:-0400
TZNAME:EDT
END:DAYLIGHT
END:VTIMEZONE
END:VCALENDAR