BEGIN:VCALENDAR
VERSION:2.0
PRODID:-//wp-events-plugin.com//7.2.3.1//EN
TZID:America/New_York
X-WR-TIMEZONE:America/New_York
BEGIN:VEVENT
UID:6587@congregationemanuel.org
DTSTART;TZID=America/New_York:20250923T150000
DTEND;TZID=America/New_York:20250923T153000
DTSTAMP:20250912T162530Z
URL:https://www.congregationemanuel.org/events/rosh-hashanah-young-familie
 s-service-3/
SUMMARY:Rosh Hashanah Young Families Service
DESCRIPTION:We invite families with young children to join us for our inter
 active and music-based High Holy Day prayers and stories. Free and open t
 o the community.
ATTACH;FMTTYPE=image/jpeg:https://www.congregationemanuel.org/wp-content/u
 ploads/2022/07/RH-YF-drawing-1.png
CATEGORIES:Featured Events
END:VEVENT
BEGIN:VTIMEZONE
TZID:America/New_York
X-LIC-LOCATION:America/New_York
BEGIN:DAYLIGHT
DTSTART:20250309T030000
TZOFFSETFROM:-0500
TZOFFSETTO:-0400
TZNAME:EDT
END:DAYLIGHT
END:VTIMEZONE
END:VCALENDAR