BEGIN:VCALENDAR
VERSION:2.0
PRODID:-//wp-events-plugin.com//7.2.3.1//EN
TZID:America/New_York
X-WR-TIMEZONE:America/New_York
BEGIN:VEVENT
UID:6719@congregationemanuel.org
DTSTART;TZID=America/New_York:20251205T193000
DTEND;TZID=America/New_York:20251205T204500
DTSTAMP:20251203T160411Z
URL:https://www.congregationemanuel.org/events/sacred-stories-shabbat-12/
SUMMARY:Sacred Stories Shabbat
DESCRIPTION:7:00pm Gallery Opening Reception\, 7:30pm Service\n\nBefore thi
 s week's service\, enjoy a gallery reception featuring the work of artist 
 Craig Zuckerman\, who transforms cellular anatomy into vivid\, sculptural 
 landscapes using light\, color\, and depth. We will then come together for
  a lively Shabbat service with our temple band\, where the themes of our p
 rayers echo in the stories of our lives connecting us with something great
 er than ourselves
ATTACH;FMTTYPE=image/jpeg:https://www.congregationemanuel.org/wp-content/u
 ploads/2020/10/Sacred-Stories.jpg
CATEGORIES:Featured Events
END:VEVENT
BEGIN:VTIMEZONE
TZID:America/New_York
X-LIC-LOCATION:America/New_York
BEGIN:STANDARD
DTSTART:20251102T010000
TZOFFSETFROM:-0400
TZOFFSETTO:-0500
TZNAME:EST
END:STANDARD
END:VTIMEZONE
END:VCALENDAR