BEGIN:VCALENDAR
VERSION:2.0
PRODID:-//wp-events-plugin.com//7.2.3.1//EN
TZID:America/New_York
X-WR-TIMEZONE:America/New_York
BEGIN:VEVENT
UID:6877@congregationemanuel.org
DTSTART;TZID=America/New_York:20260313T193000
DTEND;TZID=America/New_York:20260313T204500
DTSTAMP:20260311T145222Z
URL:https://www.congregationemanuel.org/events/sacred-stories-shabbat-13/
SUMMARY:Sacred Stories Shabbat
DESCRIPTION:We come together to reflect on our week and welcome Shabbat wit
 h beautiful music from the temple band.
END:VEVENT
BEGIN:VTIMEZONE
TZID:America/New_York
X-LIC-LOCATION:America/New_York
BEGIN:DAYLIGHT
DTSTART:20260308T030000
TZOFFSETFROM:-0500
TZOFFSETTO:-0400
TZNAME:EDT
END:DAYLIGHT
END:VTIMEZONE
END:VCALENDAR