BEGIN:VCALENDAR
VERSION:2.0
PRODID:-//wp-events-plugin.com//7.2.3.1//EN
TZID:America/New_York
X-WR-TIMEZONE:America/New_York
BEGIN:VEVENT
UID:6563@congregationemanuel.org
DTSTART;TZID=America/New_York:20250912T193000
DTEND;TZID=America/New_York:20250912T203000
DTSTAMP:20250910T143932Z
URL:https://www.congregationemanuel.org/events/shabbat-service-30/
SUMMARY:Shabbat Service
DESCRIPTION:7:00pm Gallery Reception\, 7:30pm Service\n\nWe come together t
 o reflect on our week and welcome Shabbat. This service can be livest
 reamed here.
END:VEVENT
BEGIN:VTIMEZONE
TZID:America/New_York
X-LIC-LOCATION:America/New_York
BEGIN:DAYLIGHT
DTSTART:20250309T030000
TZOFFSETFROM:-0500
TZOFFSETTO:-0400
TZNAME:EDT
END:DAYLIGHT
END:VTIMEZONE
END:VCALENDAR